BEGIN:VCALENDAR
VERSION:2.0
PRODID:-//wp-events-plugin.com//7.2.3.1//EN
BEGIN:VEVENT
UID:124@peelforestoutdoors.org.nz
DTSTART;TZID=Pacific/Auckland:20261024T083000
DTEND;TZID=Pacific/Auckland:20261025T160000
DTSTAMP:20260309T025329Z
URL:https://peelforestoutdoors.org.nz/events/te-araroa-ready-2-day-backcou
 ntry-skills-intensive-2/
SUMMARY:Te Araroa Ready - 2-Day Backcountry Skills Intensive
DESCRIPTION:
CATEGORIES:Bush,Skills Courses
LOCATION:Peel Forest Outdoor Centre\, 1222 Peel Forest Road\, Peel Forest\,
  Canterbury\, 7992\, New Zealand
X-APPLE-STRUCTURED-LOCATION;VALUE=URI;X-ADDRESS=1222 Peel Forest Road\, Pee
 l Forest\, Canterbury\, 7992\, New Zealand;X-APPLE-RADIUS=100;X-TITLE=Peel
  Forest Outdoor Centre:geo:0,0
END:VEVENT
BEGIN:VTIMEZONE
TZID:Pacific/Auckland
X-LIC-LOCATION:Pacific/Auckland
BEGIN:DAYLIGHT
DTSTART:20260927T030000
TZOFFSETFROM:+1200
TZOFFSETTO:+1300
TZNAME:NZDT
END:DAYLIGHT
END:VTIMEZONE
END:VCALENDAR