BEGIN:VCALENDAR
VERSION:2.0
PRODID:-//wp-events-plugin.com//7.2.3.1//EN
BEGIN:VEVENT
UID:116@peelforestoutdoors.org.nz
DTSTART;TZID=Pacific/Auckland:20261210T083000
DTEND;TZID=Pacific/Auckland:20261213T160000
DTSTAMP:20260213T005738Z
URL:https://peelforestoutdoors.org.nz/events/grade-2-kayak-certificate-cou
 rse-dec-26/
SUMMARY:Grade 2 Kayak Certificate Course
DESCRIPTION:
ATTACH;FMTTYPE=image/jpeg:https://peelforestoutdoors.org.nz/wp-content/upl
 oads/2023/04/G2KC_Kayaking-scaled.jpeg
CATEGORIES:Kayak,Skills Courses
LOCATION:Peel Forest Outdoor Centre\, 1222 Peel Forest Road\, Peel Forest\,
  Canterbury\, 7992\, New Zealand
X-APPLE-STRUCTURED-LOCATION;VALUE=URI;X-ADDRESS=1222 Peel Forest Road\, Pee
 l Forest\, Canterbury\, 7992\, New Zealand;X-APPLE-RADIUS=100;X-TITLE=Peel
  Forest Outdoor Centre:geo:0,0
END:VEVENT
BEGIN:VTIMEZONE
TZID:Pacific/Auckland
X-LIC-LOCATION:Pacific/Auckland
BEGIN:DAYLIGHT
DTSTART:20260927T030000
TZOFFSETFROM:+1200
TZOFFSETTO:+1300
TZNAME:NZDT
END:DAYLIGHT
END:VTIMEZONE
END:VCALENDAR