BEGIN:VCALENDAR
VERSION:2.0
PRODID:-//wp-events-plugin.com//7.2.3.1//EN
BEGIN:VEVENT
UID:122@peelforestoutdoors.org.nz
DTSTART;TZID=Pacific/Auckland:20260502T083000
DTEND;TZID=Pacific/Auckland:20260502T160000
DTSTAMP:20260309T024401Z
URL:https://peelforestoutdoors.org.nz/events/bush-navigator-navigation-out
 door-safety/
SUMMARY:Bush Navigator: Navigation & Outdoor Safety
DESCRIPTION:
CATEGORIES:Bush,Skills Courses
LOCATION:Peel Forest Outdoor Centre\, 1222 Peel Forest Road\, Peel Forest\,
  Canterbury\, 7992\, New Zealand
X-APPLE-STRUCTURED-LOCATION;VALUE=URI;X-ADDRESS=1222 Peel Forest Road\, Pee
 l Forest\, Canterbury\, 7992\, New Zealand;X-APPLE-RADIUS=100;X-TITLE=Peel
  Forest Outdoor Centre:geo:0,0
END:VEVENT
BEGIN:VTIMEZONE
TZID:Pacific/Auckland
X-LIC-LOCATION:Pacific/Auckland
BEGIN:STANDARD
DTSTART:20260405T020000
TZOFFSETFROM:+1300
TZOFFSETTO:+1200
TZNAME:NZST
END:STANDARD
END:VTIMEZONE
END:VCALENDAR